BEGIN:VCALENDAR
VERSION:2.0
PRODID:-//Hundeschule Heike Daniel - ECPv4.9.4//NONSGML v1.0//EN
CALSCALE:GREGORIAN
METHOD:PUBLISH
X-WR-CALNAME:Hundeschule Heike Daniel
X-ORIGINAL-URL:https://hundeschule-heikedaniel.com
X-WR-CALDESC:Veranstaltungen im Hundeschule Heike Daniel
BEGIN:VTIMEZONE
TZID:"Europe/Berlin"
BEGIN:DAYLIGHT
TZOFFSETFROM:+0100
TZOFFSETTO:+0200
TZNAME:CEST
DTSTART:20260329T010000
END:DAYLIGHT
BEGIN:STANDARD
TZOFFSETFROM:+0200
TZOFFSETTO:+0100
TZNAME:CET
DTSTART:20261025T010000
END:STANDARD
END:VTIMEZONE
BEGIN:VEVENT
DTSTART;TZID="Europe/Berlin":20260522T183000
DTEND;TZID="Europe/Berlin":20260522T210000
DTSTAMP:20260420T102549
CREATED:20260408T085702Z
LAST-MODIFIED:20260408T085702Z
UID:1731-1779474600-1779483600@hundeschule-heikedaniel.com
SUMMARY:21. Lehrgang für tiergestützte Therapie und Pädagogik
DESCRIPTION:Am Freitag 22.05. und Samstag 23.05.2026 startet unser 21. Ausbildungslehrgang für tiergestützte Therapie und Pädagogik in Kooperation mit der Hundeschule Dogwork-Südliche Weinstraße. \n\n\n\n\n\n\n\n\n\nSie sind in pädagogischen oder therapeutischen Arbeitsfeldern beruflich tätig und setzen Ihren Hund bereits ein\, oder planen kurz- oder mittelfristig den Einsatz Ihres Hundes im Arbeitskontext. \nSie planen mit Ihrem Hund in einer sozialen Einrichtung (Seniorenheim\, bei Demenzerkrankten\, Menschen mit Handicap/Pflegeheim\, in der Hospizarbeit oder in Schulen und Kindergärten) im Bereich der tiergestützten Besuche tätig zu werden oder sind dort bereits tätig und möchten Ihr Wissen vertiefen. \nDie Aufgaben\, die unsere Vierbeiner dabei übernehmen sind vielfältig und anspruchsvoll. Die tierischen Besucher sind oft Lichtblick und eine große Freude im Alltag der Bewohner. Sie wecken schöne Erinnerungen und sind Basis und Anregung für viele schöne Gespräche. \nVoraussetzung für diesen Erfolg sind fachliches Wissen des Halters und individuelle Eignung des Hundes. Von Ihrem Hund wünschen wir uns Offenheit\, Neugier und Interesse an fremden Menschen und einen guten Grundgehorsam. Natürlich darf Ihr Hund in neuen Situationen zögerlich reagieren oder erschrecken. Nicht wünschenswert sind angstmotivierte\, unkontrollierte oder aggressive Handlungen. \nNäheres zu den Ausbildungsinhalten und dem Ablauf der Ausbildung erfahren sie hier auf der Homepage unter Dogs and Jobs oder gerne auch in einem persönlichen Gespräch. Bei Interesse bitten wir um Kontaktaufnahme per Mail unter heike@hundeschule-heikedaniel.com. \nTiergestützte Aktivität – Neuer Lehrgang startet im Mai 2026. \n  \n\n\n\n\n\n\n\n\n\n
URL:https://hundeschule-heikedaniel.com/termin/21-lehrgang-fuer-tiergestuetzte-therapie-und-paedagogik/
LOCATION:Hundeschule Dogwork\, Bodelschwinghstraße 15\, Göcklingen\, 76831\, Deutschland
ORGANIZER;CN="Hundeschule%20Dogwork":MAILTO:info@hundeschule-goecklingen.de
END:VEVENT
END:VCALENDAR